BEGIN:VCALENDAR
VERSION:2.0
PRODID:-//North Warwickshire Pastorate - ECPv6.15.20//NONSGML v1.0//EN
CALSCALE:GREGORIAN
METHOD:PUBLISH
X-ORIGINAL-URL:https://www.nwpastorate.org.uk
X-WR-CALDESC:Events for North Warwickshire Pastorate
REFRESH-INTERVAL;VALUE=DURATION:PT1H
X-Robots-Tag:noindex
X-PUBLISHED-TTL:PT1H
BEGIN:VTIMEZONE
TZID:UTC
BEGIN:STANDARD
TZOFFSETFROM:+0000
TZOFFSETTO:+0000
TZNAME:UTC
DTSTART:20200101T000000
END:STANDARD
END:VTIMEZONE
BEGIN:VEVENT
DTSTART;TZID=UTC:20241214T100000
DTEND;TZID=UTC:20241214T120000
DTSTAMP:20260424T153356
CREATED:20241203T181911Z
LAST-MODIFIED:20241203T182609Z
UID:1342-1734170400-1734177600@www.nwpastorate.org.uk
SUMMARY:Stars & Blessings
DESCRIPTION:You are warmly invited to join us for tea/coffee and to hang a Star on a Christmas Tree in the Church with a request for prayer or to remember loved ones\, near and far and those no longer with us \n 
URL:https://www.nwpastorate.org.uk/event/stars-blessings/
CATEGORIES:Nuneaton URC
END:VEVENT
BEGIN:VEVENT
DTSTART;TZID=UTC:20211031T104500
DTEND;TZID=UTC:20211031T114500
DTSTAMP:20260424T153356
CREATED:20210914T135637Z
LAST-MODIFIED:20210914T135637Z
UID:584-1635677100-1635680700@www.nwpastorate.org.uk
SUMMARY:United Pastorate Service
DESCRIPTION:We meet as a united pastorate at Old Meeting URC in Bedworth\, and we are looking forward to the chance to meet together in person across our four churches for the first time for many months. Please remember that the clocks go back an hour this morning!
URL:https://www.nwpastorate.org.uk/event/united-pastorate-service/
LOCATION:Old Meeting URC\, Bedworth
CATEGORIES:Horeston Grange Church,Nuneaton URC,Old Meeting URC Bedworth,Trinity Church Atherstone
END:VEVENT
END:VCALENDAR